BEGIN:VCALENDAR
VERSION:2.0
PRODID:-//Library Market//iCal Export//EN
BEGIN:VEVENT
SUMMARY:BKM Crafts @ Roberts Park
UID:6970
DTSTAMP:20260425T012300Z
DTSTART:20260612T160000Z
DTEND:20260612T180000Z
LOCATION:2900 Park Road, Connersville, IN 47331, United States
ROOM: BKM Crafts @ Roberts Park
DESCRIPTION:
URL:https://www.fayettelibrary.org/event/bkm-crafts-roberts-park-6970
END:VEVENT
END:VCALENDAR
