BEGIN:VCALENDAR
VERSION:2.0
PRODID:-//Library Market//iCal Export//EN
BEGIN:VEVENT
SUMMARY:BKM Crafts @ Roberts Park
UID:6968
DTSTAMP:20260425T014700Z
DTSTART:20260703T153000Z
DTEND:20260703T173000Z
LOCATION:2900 Park Road, Connersville, IN 47331, United States
ROOM: BKM Crafts @ Roberts Park
DESCRIPTION:
URL:https://www.fayettelibrary.org/event/bkm-crafts-roberts-park-6968
END:VEVENT
END:VCALENDAR
