BEGIN:VCALENDAR
VERSION:2.0
PRODID:-//Library Market//iCal Export//EN
BEGIN:VEVENT
SUMMARY:BKM Crafts @ Roberts Park
UID:6967
DTSTAMP:20260425T030600Z
DTSTART:20260710T160000Z
DTEND:20260710T180000Z
LOCATION:2900 Park Road, Connersville, IN 47331, United States
ROOM: BKM Crafts @ Roberts Park
DESCRIPTION:
URL:https://www.fayettelibrary.org/event/copy-bkm-crafts-roberts-park-6967
END:VEVENT
END:VCALENDAR
