BEGIN:VCALENDAR
VERSION:2.0
PRODID:-//Library Market//iCal Export//EN
BEGIN:VEVENT
SUMMARY:PreK Craft Camp: Day 2 (Ages 3-5)
UID:6944
DTSTAMP:20260421T134100Z
DTSTART:20260715T143000Z
DTEND:20260715T160000Z
LOCATION:Fayette County Public Library, 828 North Grand Ave., Connersville
 , IN 47331, United States
ROOM: Library Meeting Room
DESCRIPTION:🦖 PreK Crafting Camp (Ages 3–5)Calling all little dino ex
 plorers! Get ready for 3 days of hands-on, prehistoric fun!✨ Day 1: Stom
 p into creativity with a Walking Dino Craft💎 Day 2: Shine bright with a
  Dino Suncatcher Gem Art⛏️ Day 3: Dig, discover, and explore with a Di
 no Dig🌟 Spots are limited—sign up for all 3 days of dino-mite fun! 
 Want me to add times, location, or a registration link blurb too?
URL:https://www.fayettelibrary.org/event/prek-craft-camp-day-2-ages-3-5-69
 44
END:VEVENT
END:VCALENDAR
