BEGIN:VCALENDAR
VERSION:2.0
PRODID:-//Library Market//iCal Export//EN
BEGIN:VEVENT
SUMMARY:Kids Bingo (Ages 5-12)
UID:6922
DTSTAMP:20260420T184700Z
DTSTART:20260527T203000Z
DTEND:20260527T213000Z
LOCATION:Fayette County Public Library, 828 North Grand Ave., Connersville
 , IN 47331, United States
ROOM: Library Meeting Room
DESCRIPTION:
URL:https://www.fayettelibrary.org/event/kids-bingo-ages-5-12-6922
END:VEVENT
END:VCALENDAR
