BEGIN:VCALENDAR
VERSION:2.0
PRODID:-//Library Market//iCal Export//EN
BEGIN:VEVENT
SUMMARY:Chair Yoga
UID:6900
DTSTAMP:20260420T184700Z
DTSTART:20260529T160000Z
DTEND:20260529T170000Z
LOCATION:Fayette County Public Library, 828 North Grand Ave., Connersville
 , IN 47331, United States
ROOM: Library Meeting Room
DESCRIPTION:
URL:https://www.fayettelibrary.org/event/chair-yoga-6900
END:VEVENT
END:VCALENDAR
