BEGIN:VCALENDAR
VERSION:2.0
PRODID:-//Library Market//iCal Export//EN
BEGIN:VEVENT
SUMMARY:Yoga with Sarah
UID:6803
DTSTAMP:20260420T201900Z
DTSTART:20260506T220000Z
DTEND:20260506T230000Z
LOCATION:Fayette County Public Library, 828 North Grand Ave., Connersville
 , IN 47331, United States
ROOM: Library Meeting Room
DESCRIPTION:🧘‍♀️ Yoga at the Library – All Levels Welcome!Ready
  to move, stretch, and breathe? Join us for free yoga classes at the libra
 ry!✅ Beginner to advanced✅ No cost✅ Mats availableCome as you are—
 no experience needed. Find your flow in a calm, supportive space.
URL:https://www.fayettelibrary.org/event/yoga-sarah-6803
END:VEVENT
END:VCALENDAR
