BEGIN:VCALENDAR
VERSION:2.0
PRODID:-//Library Market//iCal Export//EN
BEGIN:VEVENT
SUMMARY:Free Play (Birth-5)
UID:6560
DTSTAMP:20260420T152900Z
DTSTART:20260528T143000Z
DTEND:20260528T153000Z
LOCATION:Fayette County Public Library, 828 North Grand Ave., Connersville
 , IN 47331, United States
ROOM: Library Meeting Room
DESCRIPTION:
URL:https://www.fayettelibrary.org/event/free-play-b-5-6560
END:VEVENT
END:VCALENDAR
