BEGIN:VCALENDAR
VERSION:2.0
PRODID:-//Library Market//iCal Export//EN
BEGIN:VEVENT
SUMMARY:Storytime (Birth-5)
UID:6558
DTSTAMP:20260420T152900Z
DTSTART:20260527T143000Z
DTEND:20260527T153000Z
LOCATION:Fayette County Public Library, 828 North Grand Ave., Connersville
 , IN 47331, United States
ROOM: Library Meeting Room
DESCRIPTION:
URL:https://www.fayettelibrary.org/event/storytime-b-5-6558
END:VEVENT
END:VCALENDAR
