BEGIN:VCALENDAR
VERSION:2.0
PRODID:-//Library Market//iCal Export//EN
BEGIN:VEVENT
SUMMARY:Lego Club (Ages 5-12)
UID:6557
DTSTAMP:20260420T184700Z
DTSTART:20260520T203000Z
DTEND:20260520T213000Z
LOCATION:Fayette County Public Library, 828 North Grand Ave., Connersville
 , IN 47331, United States
ROOM: Library Meeting Room
DESCRIPTION:LEGO Club is getting ready for the summer!This month, we will 
 be exploring the night sky and space.  Bring your creativity, and we will
  bring the Legos.    
URL:https://www.fayettelibrary.org/event/lego-club-5-12-6557
END:VEVENT
END:VCALENDAR
