BEGIN:VCALENDAR
VERSION:2.0
PRODID:-//Library Market//iCal Export//EN
BEGIN:VEVENT
SUMMARY:Free Play (Birth-5)
UID:6556
DTSTAMP:20260420T152900Z
DTSTART:20260514T143000Z
DTEND:20260514T153000Z
LOCATION:Fayette County Public Library, 828 North Grand Ave., Connersville
 , IN 47331, United States
ROOM: Library Meeting Room
DESCRIPTION:This week&#039;s theme: GardensWho wants to have fun and meet 
 new friends? We have a program for you! Kids from birth to 5 Years will pl
 ay games and make new friends. This is a great opportunity for the adults 
 to build relationships too!
URL:https://www.fayettelibrary.org/event/free-play-b-5-6556
END:VEVENT
END:VCALENDAR
