BEGIN:VCALENDAR
VERSION:2.0
PRODID:-//Library Market//iCal Export//EN
BEGIN:VEVENT
SUMMARY:Storytime (Birth-5)
UID:6554
DTSTAMP:20260420T154000Z
DTSTART:20260513T143000Z
DTEND:20260513T151500Z
LOCATION:Fayette County Public Library, 828 North Grand Ave., Connersville
 , IN 47331, United States
ROOM: Library Meeting Room
DESCRIPTION:With summer just around the corner, this is a great time for u
 s to explore the garden through books and activities.   Bring a friend or
  make new ones.
URL:https://www.fayettelibrary.org/event/storytime-b-5-6554
END:VEVENT
END:VCALENDAR
