BEGIN:VCALENDAR
VERSION:2.0
PRODID:-//Library Market//iCal Export//EN
BEGIN:VEVENT
SUMMARY:SUMMER CAMP
UID:6506
DTSTAMP:20260424T005800Z
DTSTART:20260728T143000Z
DTEND:20260728T200000Z
LOCATION:Fayette County Public Library, 828 North Grand Ave., Connersville
 , IN 47331, United States
ROOM: Library Meeting Room
DESCRIPTION:
URL:https://www.fayettelibrary.org/event/summer-camp-6506
END:VEVENT
END:VCALENDAR
