BEGIN:VCALENDAR
VERSION:2.0
PRODID:-//Library Market//iCal Export//EN
BEGIN:VEVENT
SUMMARY:Summer Art Camp (Ages 9-12): Day 3
UID:6499
DTSTAMP:20260425T012300Z
DTSTART:20260709T173000Z
DTEND:20260709T190000Z
LOCATION:Fayette County Public Library, 828 North Grand Ave., Connersville
 , IN 47331, United States
ROOM: Library Meeting Room
DESCRIPTION: Participates will create a dinosaur caddy for their desk. 
URL:https://www.fayettelibrary.org/event/summer-camp-6499
END:VEVENT
END:VCALENDAR
