BEGIN:VCALENDAR
VERSION:2.0
PRODID:-//Library Market//iCal Export//EN
BEGIN:VEVENT
SUMMARY:Summer Art Camp (Ages 9-12): Day 2
UID:6498
DTSTAMP:20260425T012300Z
DTSTART:20260708T173000Z
DTEND:20260708T190000Z
LOCATION:Fayette County Public Library, 828 North Grand Ave., Connersville
 , IN 47331, United States
ROOM: Library Meeting Room
DESCRIPTION: Participates will paint on canvas a dinosaur painting. 
URL:https://www.fayettelibrary.org/event/summer-camp-6498
END:VEVENT
END:VCALENDAR
