BEGIN:VCALENDAR
VERSION:2.0
PRODID:-//Library Market//iCal Export//EN
BEGIN:VEVENT
SUMMARY:Summer Art Camp (Ages 9-12): Day 1
UID:6497
DTSTAMP:20260425T012300Z
DTSTART:20260707T173000Z
DTEND:20260707T190000Z
LOCATION:Fayette County Public Library, 828 North Grand Ave., Connersville
 , IN 47331, United States
ROOM: Library Meeting Room
DESCRIPTION: Participates will create air dry clay dinosaurs.  
URL:https://www.fayettelibrary.org/event/summer-camp-6497
END:VEVENT
END:VCALENDAR
