BEGIN:VCALENDAR
VERSION:2.0
PRODID:-//Library Market//iCal Export//EN
BEGIN:VEVENT
SUMMARY:Diamond Art Camp (Ages 9-12) *Sign up for all 3 Days*
UID:6491
DTSTAMP:20260425T012300Z
DTSTART:20260623T143000Z
DTEND:20260623T160000Z
LOCATION:Fayette County Public Library, 828 North Grand Ave., Connersville
 , IN 47331, United States
ROOM: Library Meeting Room
DESCRIPTION:π¨ Diamond Art Camp (Ages 9β12)β¨ 3 Days of Fun &amp; Cre
 ativity!ποΈ Join us for three engaging mornings working on one special
  diamond art project from start to finish.π Time: 10:30 AM β 12:00 PM
 π Sign up for all 3 days to complete your project!No experience neededβ
 just bring your creativity!π Spots are limited. Register today!
URL:https://www.fayettelibrary.org/event/summer-camp-6491
END:VEVENT
END:VCALENDAR
