BEGIN:VCALENDAR
VERSION:2.0
PRODID:-//Library Market//iCal Export//EN
BEGIN:VEVENT
SUMMARY:Mixed Media Patriotic Mason Jar (Adult)
UID:6436
DTSTAMP:20260425T013600Z
DTSTART:20260629T143000Z
DTEND:20260629T160000Z
LOCATION:Fayette County Public Library, 828 North Grand Ave., Connersville
 , IN 47331, United States
ROOM: Program Room
DESCRIPTION: Mixed Media Patriotic Mason JarParticipants will paint a woo
 den mason jar with a patriotic theme, creating a festive piece perfect for
  summer décor. 
URL:https://www.fayettelibrary.org/event/mixed-media-patriotic-mason-jar-a
 dult-6436
END:VEVENT
END:VCALENDAR
