BEGIN:VCALENDAR
VERSION:2.0
PRODID:-//Library Market//iCal Export//EN
BEGIN:VEVENT
SUMMARY:Mixed Media Sheet Music Watercolor (Adult)
UID:6435
DTSTAMP:20260425T014700Z
DTSTART:20260615T190000Z
DTEND:20260615T203000Z
LOCATION:Fayette County Public Library, 828 North Grand Ave., Connersville
 , IN 47331, United States
ROOM: Program Room
DESCRIPTION: Mixed Media Sheet Music WatercolorParticipants will paint a 
 watercolor silhouette over sheet music, turning notes into a one-of-a-kind
  work of art. 
URL:https://www.fayettelibrary.org/event/mixed-media-sheet-music-watercolo
 r-adult-6435
END:VEVENT
END:VCALENDAR
