BEGIN:VCALENDAR
VERSION:2.0
PRODID:-//Library Market//iCal Export//EN
BEGIN:VEVENT
SUMMARY:Mixed Media Sunflower (Adult)
UID:6430
DTSTAMP:20260425T013600Z
DTSTART:20260602T143000Z
DTEND:20260602T160000Z
LOCATION:Fayette County Public Library, 828 North Grand Ave., Connersville
 , IN 47331, United States
ROOM: Program Room
DESCRIPTION: Mixed Media SunflowerParticipants will paint a checkerboard 
 background, then add a tissue-paper sunflower for stunning summer wall dé
 cor.  
URL:https://www.fayettelibrary.org/event/lisas-program-name-6430
END:VEVENT
END:VCALENDAR
