BEGIN:VCALENDAR
VERSION:2.0
PRODID:-//Library Market//iCal Export//EN
BEGIN:VEVENT
SUMMARY:Mystery Book Club
UID:6133
DTSTAMP:20260420T193100Z
DTSTART:20260520T213000Z
DTEND:20260520T223000Z
LOCATION:Fayette County Public Library, 828 North Grand Ave., Connersville
 , IN 47331, United States
ROOM: Program Room
DESCRIPTION:Pick up your copy of Sea Change. Happy reading! And, don&#039;
 t forget to join us for a friendly discussion of the story.
URL:https://www.fayettelibrary.org/event/mystery-book-club-6133
END:VEVENT
END:VCALENDAR
