BEGIN:VCALENDAR
VERSION:2.0
PRODID:-//Library Market//iCal Export//EN
BEGIN:VEVENT
SUMMARY:Christian Fiction Book Club
UID:6036
DTSTAMP:20260420T184700Z
DTSTART:20260511T170000Z
DTEND:20260511T180000Z
LOCATION:Fayette County Public Library, 828 North Grand Ave., Connersville
 , IN 47331, United States
ROOM: Library Meeting Room
DESCRIPTION:Pick up your copy of A hope unburied, the third book in Kimber
 ley Woodhouse&#039;s Treasures of the Earth Series. Happy reading! And, do
 n&#039;t forget to join us for a friendly discussion of the story.   
URL:https://www.fayettelibrary.org/event/christian-fiction-book-club-6036
END:VEVENT
END:VCALENDAR
